BEGIN:VCALENDAR
VERSION:2.0
PRODID:-//Pharmacom Italia - ECPv6.15.17//NONSGML v1.0//EN
CALSCALE:GREGORIAN
METHOD:PUBLISH
X-WR-CALNAME:Pharmacom Italia
X-ORIGINAL-URL:https://pharmacomitalia.yec-playground.it
X-WR-CALDESC:Eventi per Pharmacom Italia
REFRESH-INTERVAL;VALUE=DURATION:PT1H
X-Robots-Tag:noindex
X-PUBLISHED-TTL:PT1H
BEGIN:VTIMEZONE
TZID:Europe/Rome
BEGIN:DAYLIGHT
TZOFFSETFROM:+0100
TZOFFSETTO:+0200
TZNAME:CEST
DTSTART:20250330T010000
END:DAYLIGHT
BEGIN:STANDARD
TZOFFSETFROM:+0200
TZOFFSETTO:+0100
TZNAME:CET
DTSTART:20251026T010000
END:STANDARD
BEGIN:DAYLIGHT
TZOFFSETFROM:+0100
TZOFFSETTO:+0200
TZNAME:CEST
DTSTART:20260329T010000
END:DAYLIGHT
BEGIN:STANDARD
TZOFFSETFROM:+0200
TZOFFSETTO:+0100
TZNAME:CET
DTSTART:20261025T010000
END:STANDARD
BEGIN:DAYLIGHT
TZOFFSETFROM:+0100
TZOFFSETTO:+0200
TZNAME:CEST
DTSTART:20270328T010000
END:DAYLIGHT
BEGIN:STANDARD
TZOFFSETFROM:+0200
TZOFFSETTO:+0100
TZNAME:CET
DTSTART:20271031T010000
END:STANDARD
END:VTIMEZONE
BEGIN:VEVENT
DTSTART;VALUE=DATE:20260324
DTEND;VALUE=DATE:20260325
DTSTAMP:20260426T030031
CREATED:20260305T220555Z
LAST-MODIFIED:20260325T181949Z
UID:79-1774310400-1774396799@pharmacomitalia.yec-playground.it
SUMMARY:INNPharma25: a Venezia la Conferenza Annuale di PharmacomItalia dedicata alla Farma Logistica 4.0
DESCRIPTION:INNPharma2025 è la Conferenza Annuale di PharmacomItalia che tratta i temi centrali della logistica farmaceutica nei suoi \naspetti tecnologici\, infrastrutturali e sostenibili. \nLa novità principale di quest’anno è l’organizzazione di una Sessione Formativa dedicata alla logistica del farmaco e indirizzata \nalle aziende farmaceutiche e agli operatori qualificati. Seguiranno sessioni tecniche e momenti di confronto secondo la vision \nPharmacomItalia\, volta a creare una rete sempre più ampia di professionisti basata sulla collaborazione reciproca e sulla \ncondivisione di contenuti tecnici. \n  \nLa strada da intraprendere per sviluppare la Logistica del Futuro passa attraverso le sfide delle strategie green che la Community \ndi PharmacomItalia è pronta ad accogliere e a portare avanti con competenza e spirito critico. \n  \n  \nI TEMI PRINCIPALI DELLA CONFERENZA \n• Protocollo del mare: standard di qualificazione e linee guida \n• Infrastrutture e Intermodalità \n• Sostenibilità\, risorse alternative e Green Trade Lane \n• Alta Formazione per la logistica farmaceutica \n  \nLOCATION \nVenezia Heritage Tower ospiterà la Conferenza INNPharma2025 e la Cena di Networking. L’ex torre di raffreddamento industriale \ndi Porto Marghera è un vero e proprio simbolo della volontà del territorio di promuovere un ecosistema favorevole allo sviluppo di \nuna cultura imprenditoriale\, di cooperazione e innovazione a vocazione internazionale. \nUna vocazione pienamente condivisa da PharmacomItalia. \n   \nVedi la locandina
URL:https://pharmacomitalia.yec-playground.it/eventi/innpharma25-a-venezia-la-conferenza-annuale-di-pharmacomitalia-dedicata-alla-farma-logistica-4-0/
LOCATION:Venezia Heritage Tower\, Porto Marghera\, Venezia
ATTACH;FMTTYPE=image/png:https://pharmacomitalia.yec-playground.it/wp-content/uploads/2026/03/ChatGPT-Image-5-mar-2026-23_05_41.png
END:VEVENT
END:VCALENDAR