BEGIN:VCALENDAR
VERSION:2.0
PRODID:-//Pharmacom Italia - ECPv6.15.17//NONSGML v1.0//EN
CALSCALE:GREGORIAN
METHOD:PUBLISH
X-WR-CALNAME:Pharmacom Italia
X-ORIGINAL-URL:https://pharmacomitalia.yec-playground.it
X-WR-CALDESC:Eventi per Pharmacom Italia
REFRESH-INTERVAL;VALUE=DURATION:PT1H
X-Robots-Tag:noindex
X-PUBLISHED-TTL:PT1H
BEGIN:VTIMEZONE
TZID:Europe/Rome
BEGIN:DAYLIGHT
TZOFFSETFROM:+0100
TZOFFSETTO:+0200
TZNAME:CEST
DTSTART:20250330T010000
END:DAYLIGHT
BEGIN:STANDARD
TZOFFSETFROM:+0200
TZOFFSETTO:+0100
TZNAME:CET
DTSTART:20251026T010000
END:STANDARD
BEGIN:DAYLIGHT
TZOFFSETFROM:+0100
TZOFFSETTO:+0200
TZNAME:CEST
DTSTART:20260329T010000
END:DAYLIGHT
BEGIN:STANDARD
TZOFFSETFROM:+0200
TZOFFSETTO:+0100
TZNAME:CET
DTSTART:20261025T010000
END:STANDARD
BEGIN:DAYLIGHT
TZOFFSETFROM:+0100
TZOFFSETTO:+0200
TZNAME:CEST
DTSTART:20270328T010000
END:DAYLIGHT
BEGIN:STANDARD
TZOFFSETFROM:+0200
TZOFFSETTO:+0100
TZNAME:CET
DTSTART:20271031T010000
END:STANDARD
END:VTIMEZONE
BEGIN:VEVENT
DTSTART;VALUE=DATE:20260331
DTEND;VALUE=DATE:20260401
DTSTAMP:20260426T030155
CREATED:20260305T221457Z
LAST-MODIFIED:20260310T123741Z
UID:89-1774915200-1775001599@pharmacomitalia.yec-playground.it
SUMMARY:Air Cargo Europe 2025 – Presentazione PharmacomItalia
DESCRIPTION:Partecipazione alla fiera leader mondiale per la logistica aerea. PharmacomItalia\, come partner della Community Milano Malpensa Global Cargo\, presenta la propria storia e il modello per l’internazionalizzazione della logistica del farmaco. \nHALL A2 – STAND 606\, Monaco di Baviera\, Germania
URL:https://pharmacomitalia.yec-playground.it/eventi/air-cargo-europe-2025-presentazione-pharmacomitalia/
LOCATION:Monaco di Baviera\, Germania\, Monaco di Baviera\, Germania
ATTACH;FMTTYPE=image/png:https://pharmacomitalia.yec-playground.it/wp-content/uploads/2026/03/ChatGPT-Image-5-mar-2026-23_14_29.png
END:VEVENT
END:VCALENDAR